BEGIN:VCALENDAR
X-WR-TIMEZONE:Europe/Berlin
X-WR-CALNAME:rbb-Kalender
VERSION:2.0
METHOD:PUBLISH
CALSCALE:GREGORIAN
PRODID:rbb-CMS DAY
BEGIN:VEVENT
CLASS:PUBLIC
URL:http://www.rbb-online.de/content/rbb/rbb/kowalskiundschmidt/archiv/kowalski___schmidt24/saenger_mit_herz.html
DTEND:20130407T183200
DTSTART:20130407T183200
UID:/content/rbb/rbb/kowalskiundschmidt/archiv/kowalski___schmidt24/saenger_mit_herz
DTSTAMP:20140406T173604
DESCRIPTION:Seine Lieder handeln von Liebe und anderen Gefühlen. Kritiker nennen Mark Forster deshalb einen Schlagersänger. In Polen, wo er herkommt, ist das kein Schimpfwort, sondern eine Auszeichnung. Wir haben Mark, der eigentlich Marek heißt, in seiner Wahlheimat Berlin getroffen.
SUMMARY:Sänger mit Herz
END:VEVENT
END:VCALENDAR
