BEGIN:VCALENDAR
X-WR-TIMEZONE:Europe/Berlin
X-WR-CALNAME:rbb-Kalender
VERSION:2.0
METHOD:PUBLISH
CALSCALE:GREGORIAN
PRODID:rbb-CMS DAY
BEGIN:VEVENT
CLASS:PUBLIC
URL:http://www.rbb-online.de/content/rbb/rbb/kowalskiundschmidt/archiv/kowalski___schmidt27.html
DTEND:20130421T183200
DTSTART:20130421T183200
UID:/content/rbb/rbb/kowalskiundschmidt/archiv/kowalski___schmidt27
DTSTAMP:20140405T192825
DESCRIPTION:+++ Jüdische Schule in Breslau +++ Bilder vom Warschauer Ghetto +++ Auf der Suche nach der Weltformel +++ Aus Liebe zum Tanz +++\n\n\n
SUMMARY:Kowalski & schmidt vom 21.04.2013
END:VEVENT
END:VCALENDAR
