BEGIN:VCALENDAR
X-WR-TIMEZONE:Europe/Berlin
X-WR-CALNAME:rbb-Kalender
VERSION:2.0
METHOD:PUBLISH
CALSCALE:GREGORIAN
PRODID:rbb-CMS DAY
BEGIN:VEVENT
CLASS:PUBLIC
URL:http://www.rbb-online.de/content/rbb/rbb/kowalskiundschmidt/archiv/kowalski___schmidt27/auf_der_suche_nach.html
DTEND:20130421T183200
DTSTART:20130421T183200
UID:/content/rbb/rbb/kowalskiundschmidt/archiv/kowalski___schmidt27/auf_der_suche_nach
DTSTAMP:20140406T173959
DESCRIPTION:Ein deutscher und ein polnischer Physiker forschen am weltweit größten Zentrum der Teilchenphysik, dem CERN. Ihr Thema: das "Quark-Gluon-Plasma", der Zustand von Materie im Augenblick des Urknalls. Beide Wissenschaftler sind zu Freunden geworden.
SUMMARY:Auf der Suche nach der Weltformel
END:VEVENT
END:VCALENDAR
