BEGIN:VCALENDAR
X-WR-TIMEZONE:Europe/Berlin
X-WR-CALNAME:rbb-Kalender
VERSION:2.0
METHOD:PUBLISH
CALSCALE:GREGORIAN
PRODID:rbb-CMS DAY
BEGIN:VEVENT
CLASS:PUBLIC
URL:http://www.rbb-online.de/content/rbb/rbb/kowalskiundschmidt/archiv/kowalski___schmidt27/aus_liebe_zum_tanz.html
DTEND:20130421T183200
DTSTART:20130421T183200
UID:/content/rbb/rbb/kowalskiundschmidt/archiv/kowalski___schmidt27/aus_liebe_zum_tanz
DTSTAMP:20140406T174010
DESCRIPTION:Der in Polen geborene Tänzer Wiesław Dudek und die japanische Primaballerina Shoko Nakamura tanzen auf den Ballettbühnen der Welt, momentan als Solisten am Berliner Staatsballett. An der Spree fanden sie nicht nur alsTanzpartner, sondern auch als Lebenspartner zueinander.
SUMMARY:Aus Liebe zum Tanz
END:VEVENT
END:VCALENDAR
