BEGIN:VCALENDAR
X-WR-TIMEZONE:Europe/Berlin
X-WR-CALNAME:rbb-Kalender
VERSION:2.0
METHOD:PUBLISH
CALSCALE:GREGORIAN
PRODID:rbb-CMS DAY
BEGIN:VEVENT
CLASS:PUBLIC
URL:http://www.rbb-online.de/content/rbb/rbb/kowalskiundschmidt/archiv/kowalski___schmidt28.html
DTEND:20130505T190000
DTSTART:20130505T183000
UID:/content/rbb/rbb/kowalskiundschmidt/archiv/kowalski___schmidt28
DTSTAMP:20140405T192937
DESCRIPTION:+++ Deutsche Küche! +++ Kein Fleisch! +++ Exil in Berlin +++ Berlin "Fucking City" +++\n\n\n
SUMMARY:Kowalski & Schmidt vom 05.05.2013
END:VEVENT
END:VCALENDAR
