BEGIN:VCALENDAR
X-WR-TIMEZONE:Europe/Berlin
X-WR-CALNAME:rbb-Kalender
VERSION:2.0
METHOD:PUBLISH
CALSCALE:GREGORIAN
PRODID:rbb-CMS DAY
BEGIN:VEVENT
CLASS:PUBLIC
URL:http://www.rbb-online.de/content/rbb/rbb/kowalskiundschmidt/archiv/kowalski___schmidt28/exil_in_berlin.html
DTEND:20130505T183000
DTSTART:20130505T183000
UID:/content/rbb/rbb/kowalskiundschmidt/archiv/kowalski___schmidt28/exil_in_berlin
DTSTAMP:20140406T174159
DESCRIPTION:Die nationalkonservative Kulturrevolution treibt immer mehr Ungarn aus dem Land, das wieder Denkmäler für seinen faschistischen Staatschef aus dem zweiten Weltkrieg aufstellt. Und sie fragen sich, ob sich in Berlin überhaupt jemand dafür interessiert, was beim EU-Nachbarn los ist.
SUMMARY:Exil in Berlin
END:VEVENT
END:VCALENDAR
