BEGIN:VCALENDAR
X-WR-TIMEZONE:Europe/Berlin
X-WR-CALNAME:rbb-Kalender
VERSION:2.0
METHOD:PUBLISH
CALSCALE:GREGORIAN
PRODID:rbb-CMS DAY
BEGIN:VEVENT
CLASS:PUBLIC
URL:http://www.rbb-online.de/content/rbb/rbb/kowalskiundschmidt/archiv/kowalski___schmidt30.html
DTEND:20130526T183000
DTSTART:20130526T183000
UID:/content/rbb/rbb/kowalskiundschmidt/archiv/kowalski___schmidt30
DTSTAMP:20140405T192900
DESCRIPTION:+++ Auf der Suche nach EU-Geldern +++ Auf der Suche nach einem Job +++ Gibt es Polenhass in Kremmen? +++ Auf der Suche nach der Weltformel +++ Auf der Suche nach einem Hit +++\n
SUMMARY:Kowalski & Schmidt vom 26.05.2013
END:VEVENT
END:VCALENDAR
