BEGIN:VCALENDAR
X-WR-TIMEZONE:Europe/Berlin
X-WR-CALNAME:rbb-Kalender
VERSION:2.0
METHOD:PUBLISH
CALSCALE:GREGORIAN
PRODID:rbb-CMS DAY
BEGIN:VEVENT
CLASS:PUBLIC
URL:http://www.rbb-online.de/content/rbb/rbb/kowalskiundschmidt/archiv/kowalski___schmidt30/auf_der_suche_nach.html
DTEND:20130526T183000
DTSTART:20130526T183000
UID:/content/rbb/rbb/kowalskiundschmidt/archiv/kowalski___schmidt30/auf_der_suche_nach
DTSTAMP:20140406T174048
DESCRIPTION:Mit fast 70 Prozent Zustimmung gehören die Polen laut einer Umfrage zu den größten Euroenthusiasten. Kein Wunder, das Land profitiert finanziell von der Europäischen Union. Auch im niederschlesischen Kurort Polanica Zdrój, früher Bad Altheide, ist der Geldsegen aus Brüssel deutlich zu spüren.
SUMMARY:Auf der Suche nach EU-Geldern
END:VEVENT
END:VCALENDAR
