BEGIN:VCALENDAR
X-WR-TIMEZONE:Europe/Berlin
X-WR-CALNAME:rbb-Kalender
VERSION:2.0
METHOD:PUBLISH
CALSCALE:GREGORIAN
PRODID:rbb-CMS DAY
BEGIN:VEVENT
CLASS:PUBLIC
URL:http://www.rbb-online.de/content/rbb/rbb/kowalskiundschmidt/archiv/kowalski___schmidt31/eine_schule_mit_modellcharakter.html
DTEND:20130609T183000
DTSTART:20130609T183000
UID:/content/rbb/rbb/kowalskiundschmidt/archiv/kowalski___schmidt31/eine_schule_mit_modellcharakter
DTSTAMP:20140406T173206
DESCRIPTION:Was die Kinder jeden Tag leisten, ist Schwerstarbeit. Und sie tun es gerne. In neun Monaten sollen die Schüler der Sprachförderklasse der Carl-Bolle-Grundschule so fit sein, dass sie in die normale Klasse ihrer jeweiligen Alternsstufe versetzt werden können.
SUMMARY:Eine Schule mit Modellcharakter
END:VEVENT
END:VCALENDAR
