BEGIN:VCALENDAR
X-WR-TIMEZONE:Europe/Berlin
X-WR-CALNAME:rbb-Kalender
VERSION:2.0
METHOD:PUBLISH
CALSCALE:GREGORIAN
PRODID:rbb-CMS DAY
BEGIN:VEVENT
CLASS:PUBLIC
URL:http://www.rbb-online.de/content/rbb/rbb/kowalskiundschmidt/archiv/kowalski___schmidt31/stettiner_zelle__.html
DTEND:20130609T183000
DTSTART:20130609T183000
UID:/content/rbb/rbb/kowalskiundschmidt/archiv/kowalski___schmidt31/stettiner_zelle__
DTSTAMP:20140406T173137
DESCRIPTION:Unsere beiden „MetroPolinnen“ wissen, warum es in Berlin noch immer keinen neuen Flughafen gibt. Ganz einfach: die Polen sind schuld. Achtung Satire!
SUMMARY:Stettiner Zelle - die MetroPolinnen
END:VEVENT
END:VCALENDAR
