BEGIN:VCALENDAR
X-WR-TIMEZONE:Europe/Berlin
X-WR-CALNAME:rbb-Kalender
VERSION:2.0
METHOD:PUBLISH
CALSCALE:GREGORIAN
PRODID:rbb-CMS DAY
BEGIN:VEVENT
CLASS:PUBLIC
URL:http://www.rbb-online.de/content/rbb/rbb/kowalskiundschmidt/archiv/kowaslki-schmidt-vom-020202014/inderin-in-polnischer-provinz.html
DTEND:20140202T190000
DTSTART:20140202T183000
UID:/content/rbb/rbb/kowalskiundschmidt/archiv/kowaslki-schmidt-vom-020202014/inderin-in-polnischer-provinz
DTSTAMP:20140404T220236
DESCRIPTION:Sie kommt aus einem kleinen Dorf in Indien. Sie ist medizinische Massage-Therapeutin und arbeitet jetzt im SPA eines Wellness Hotels gleich hinter der deutsch-polnischen Grenze. Jeden Monat schickt sie ihren Verdienst nach Hause, und jeden Abend skypt sie mit ihrer kleinen Tochter. Ohne die Arbeit der Mutter im fernen Polen könnte die Familie nicht überleben.\n\n\n
SUMMARY:Eine Inderin in der polnischen Provinz
END:VEVENT
END:VCALENDAR
