BEGIN:VCALENDAR
X-WR-TIMEZONE:Europe/Berlin
X-WR-CALNAME:rbb-Kalender
VERSION:2.0
METHOD:PUBLISH
CALSCALE:GREGORIAN
PRODID:rbb-CMS DAY
BEGIN:VEVENT
CLASS:PUBLIC
URL:http://www.rbb-online.de/content/rbb/rbb/kowalskiundschmidt/archiv/kowaslki-schmidt-vom-020202014/kogel-mogel-spezialitaeten.html
DTEND:20140202T190000
DTSTART:20140202T183000
UID:/content/rbb/rbb/kowalskiundschmidt/archiv/kowaslki-schmidt-vom-020202014/kogel-mogel-spezialitaeten
DTSTAMP:20140404T215609
DESCRIPTION:Kinder der deutsch-polnischen Europa-Schule in Berlin erklären deutsche und polnische Begriffe für Anfänger, heute "Polnische Spezialitäten".\n\n\n
SUMMARY:Kogel-Mogel mit "Polnischen Spezialitäten"
END:VEVENT
END:VCALENDAR
