BEGIN:VCALENDAR
X-WR-TIMEZONE:Europe/Berlin
X-WR-CALNAME:rbb-Kalender
VERSION:2.0
METHOD:PUBLISH
CALSCALE:GREGORIAN
PRODID:rbb-CMS DAY
BEGIN:VEVENT
CLASS:PUBLIC
URL:http://www.rbb-online.de/content/rbb/rbb/kroemer/archiv/kroemer-late-night-fo6.html
DTEND:20140213T224500
DTSTART:20140213T224500
UID:/content/rbb/rbb/kroemer/archiv/kroemer-late-night-fo6
DTSTAMP:20140404T220651
DESCRIPTION:Bitte? Hallo? Wo ist das Publikum zur  sechsten Folge der "KRÖMER - Late Night Show"? Komiker Kurt Krömer begrüßt diese Gäste: die fantastische Katharina Thalbach und Komiker- Kollegin Carolin Kebekus. Für Musik sorgt Marla Blumenblatt.\n
SUMMARY:KRÖMER - Late Night Show (6)
END:VEVENT
END:VCALENDAR
