BEGIN:VCALENDAR
X-WR-TIMEZONE:Europe/Berlin
X-WR-CALNAME:rbb-Kalender
VERSION:2.0
METHOD:PUBLISH
CALSCALE:GREGORIAN
PRODID:rbb-CMS DAY
BEGIN:VEVENT
CLASS:PUBLIC
URL:http://www.rbb-online.de/content/rbb/rbb/kultur/beitrag/2014/03/farbe-fuer-die-republik-ausstellung-dhm-berlin.html
DTEND:20140320T224500
DTSTART:20140320T221500
UID:/content/rbb/rbb/kultur/beitrag/2014/03/farbe-fuer-die-republik-ausstellung-dhm-berlin
DTSTAMP:20140404T135915
DESCRIPTION:Glückliche Arbeiterinnen und anpackende Fabrikarbeiter - Ausstellungen zum Alltags- und Arbeitsleben in der DDR gibt es viele. Das Deutsche Historische Museum zeigt jetzt eine neue Fotoschau zum Leben in der DDR - aber eine komplett gestellte Hochglanzversion voller Optimismus und Aufbruchstimmung - inszeniert von eigens beauftragten Bildjournalisten.\n\n\n
SUMMARY:Bilder einer auf Hochglanz gebürsteten DDR
END:VEVENT
END:VCALENDAR
