BEGIN:VCALENDAR
X-WR-TIMEZONE:Europe/Berlin
X-WR-CALNAME:rbb-Kalender
VERSION:2.0
METHOD:PUBLISH
CALSCALE:GREGORIAN
PRODID:rbb-CMS DAY
BEGIN:VEVENT
CLASS:PUBLIC
URL:http://www.rbb-online.de/content/rbb/rbb/kultur/beitrag/2014/03/kurt-am-wittenbergplatz-ausstellung-schoeneberg.html
DTEND:20140327T224500
DTSTART:20140327T221500
UID:/content/rbb/rbb/kultur/beitrag/2014/03/kurt-am-wittenbergplatz-ausstellung-schoeneberg
DTSTAMP:20140404T140048
DESCRIPTION:Schöneberg gilt unter Berlinern und in allen Reiseführern als Schwulen-Mekka. Doch wie seine Geschichte zeigt, hat der freigeistige Bezirk viel mehr zu bieten: revolutionäres Theater, Industriedenkmäler und hohe Weltpolitik. Anlässlich seines 750. Geburtstags zeigt eine neue Fotoausstellung die bewegte Geschichte Schönebergs.\n
SUMMARY:Schwule Cafés und Westberlins letzter Kuhstall
END:VEVENT
END:VCALENDAR
