BEGIN:VCALENDAR
X-WR-TIMEZONE:Europe/Berlin
X-WR-CALNAME:rbb-Kalender
VERSION:2.0
METHOD:PUBLISH
CALSCALE:GREGORIAN
PRODID:rbb-CMS DAY
BEGIN:VEVENT
CLASS:PUBLIC
URL:http://www.rbb-online.de/content/rbb/rbb/kurz_vor_fuenf/SPORT/baederbetriebe.html
DTEND:20140113T170000
DTSTART:20140113T165000
UID:/content/rbb/rbb/kurz_vor_fuenf/SPORT/baederbetriebe
DTSTAMP:20140406T124741
DESCRIPTION:Seit dem 1. Januar 2014 ist alles anders. Die Bäderbetriebe wollen mit ihrer Tarif-Reform offiziell individueller auf Kundenwünsche eingehen, aber für viele Stammgäste, zum Beispiel die traditionell gern morgens schwimmenden Rentner,  wird es einfach nur teurer.\n
SUMMARY:Kurz vor 5 - SPORT: Tarif-Reform bei den Berliner Bäderbetrieben
END:VEVENT
END:VCALENDAR
