BEGIN:VCALENDAR
X-WR-TIMEZONE:Europe/Berlin
X-WR-CALNAME:rbb-Kalender
VERSION:2.0
METHOD:PUBLISH
CALSCALE:GREGORIAN
PRODID:rbb-CMS DAY
BEGIN:VEVENT
CLASS:PUBLIC
URL:http://www.rbb-online.de/content/rbb/rbb/kurz_vor_fuenf/SPORT/bmx.html
DTEND:20140317T170000
DTSTART:20140317T165000
UID:/content/rbb/rbb/kurz_vor_fuenf/SPORT/bmx
DTSTAMP:20140404T175639
DESCRIPTION:Kurz vor 5 SPORT fährt Rad in Rathenow.\n
SUMMARY:Kurz vor 5 SPORT: BMX
END:VEVENT
END:VCALENDAR
