BEGIN:VCALENDAR
X-WR-TIMEZONE:Europe/Berlin
X-WR-CALNAME:rbb-Kalender
VERSION:2.0
METHOD:PUBLISH
CALSCALE:GREGORIAN
PRODID:rbb-CMS DAY
BEGIN:VEVENT
CLASS:PUBLIC
URL:http://www.rbb-online.de/content/rbb/rbb/kurz_vor_fuenf/SPORT/fruehsport-oder-workout-am-abend.html
DTEND:20131216T170000
DTSTART:20131216T165000
UID:/content/rbb/rbb/kurz_vor_fuenf/SPORT/fruehsport-oder-workout-am-abend
DTSTAMP:20140406T124822
DESCRIPTION:Wir haben mit Aktiven gesprochen und nachgefragt, wann und warum sie lieber Sport treiben.\n
SUMMARY:Kurz vor 5 - SPORT: Frühsport oder Workout am Abend
END:VEVENT
END:VCALENDAR
