BEGIN:VCALENDAR
X-WR-TIMEZONE:Europe/Berlin
X-WR-CALNAME:rbb-Kalender
VERSION:2.0
METHOD:PUBLISH
CALSCALE:GREGORIAN
PRODID:rbb-CMS DAY
BEGIN:VEVENT
CLASS:PUBLIC
URL:http://www.rbb-online.de/content/rbb/rbb/kurz_vor_fuenf/SPORT/kurz-vor-5---sport--akrobatik-fuer-kinder-und-erwachsene.html
DTEND:20140310T170000
DTSTART:20140310T165000
UID:/content/rbb/rbb/kurz_vor_fuenf/SPORT/kurz-vor-5---sport--akrobatik-fuer-kinder-und-erwachsene
DTSTAMP:20140405T124308
DESCRIPTION:Im Varieté oder Zirkus staunen wir über die Eleganz, beim Sport fiebern wir mit bei artistischen Übungen. Die Sportakrobatik ist vielfältig und für Wettkampfsportler, Artisten und Freizeitsportler eine gute Grundlage für ein gesundes und ausgewogenes Körpergefühl.\n
SUMMARY:Kurz vor 5 - SPORT: Akrobatik für Kinder und Erwachsene
END:VEVENT
END:VCALENDAR
