BEGIN:VCALENDAR
X-WR-TIMEZONE:Europe/Berlin
X-WR-CALNAME:rbb-Kalender
VERSION:2.0
METHOD:PUBLISH
CALSCALE:GREGORIAN
PRODID:rbb-CMS DAY
BEGIN:VEVENT
CLASS:PUBLIC
URL:http://www.rbb-online.de/content/rbb/rbb/kurz_vor_fuenf/SPORT/kurz-vor-5-freitag.html
DTEND:20131129T170000
DTSTART:20131129T165000
UID:/content/rbb/rbb/kurz_vor_fuenf/SPORT/kurz-vor-5-freitag
DTSTAMP:20140406T124229
DESCRIPTION:Bei Kurz vor 5  geht es heute um das Eislaufen. \n\n\n
SUMMARY:Kurz vor 5 - SPORT: Eislaufen
END:VEVENT
END:VCALENDAR
