BEGIN:VCALENDAR
X-WR-TIMEZONE:Europe/Berlin
X-WR-CALNAME:rbb-Kalender
VERSION:2.0
METHOD:PUBLISH
CALSCALE:GREGORIAN
PRODID:rbb-CMS DAY
BEGIN:VEVENT
CLASS:PUBLIC
URL:http://www.rbb-online.de/content/rbb/rbb/kurz_vor_fuenf/SPORT/kurz-vor-5-sport--feriensport.html
DTEND:20140131T170000
DTSTART:20140131T165000
UID:/content/rbb/rbb/kurz_vor_fuenf/SPORT/kurz-vor-5-sport--feriensport
DTSTAMP:20140406T124712
DESCRIPTION:Kurz vor Fünf SPORT  ist in Frankfurt (Oder) am Olympiastützpunkt zu Gast.\n
SUMMARY:Kurz vor 5 SPORT: Feriensport
END:VEVENT
END:VCALENDAR
