BEGIN:VCALENDAR
X-WR-TIMEZONE:Europe/Berlin
X-WR-CALNAME:rbb-Kalender
VERSION:2.0
METHOD:PUBLISH
CALSCALE:GREGORIAN
PRODID:rbb-CMS DAY
BEGIN:VEVENT
CLASS:PUBLIC
URL:http://www.rbb-online.de/content/rbb/rbb/kurz_vor_fuenf/SPORT/kurz-vor-5-sportlicheausfluege.html
DTEND:20131104T170000
DTSTART:20131104T165000
UID:/content/rbb/rbb/kurz_vor_fuenf/SPORT/kurz-vor-5-sportlicheausfluege
DTSTAMP:20140406T124321
DESCRIPTION:Kurz vor 5 SPORT ist zu Gast am Krummensee.\n\n\n
SUMMARY:Kurz vor 5 - SPORT: Sportliche Ausflüge
END:VEVENT
END:VCALENDAR
