BEGIN:VCALENDAR
X-WR-TIMEZONE:Europe/Berlin
X-WR-CALNAME:rbb-Kalender
VERSION:2.0
METHOD:PUBLISH
CALSCALE:GREGORIAN
PRODID:rbb-CMS DAY
BEGIN:VEVENT
CLASS:PUBLIC
URL:http://www.rbb-online.de/content/rbb/rbb/kurz_vor_fuenf/SPORT/kurz-vor-5-tanzen-latein.html
DTEND:20131125T170000
DTSTART:20131125T165000
UID:/content/rbb/rbb/kurz_vor_fuenf/SPORT/kurz-vor-5-tanzen-latein
DTSTAMP:20140406T124305
DESCRIPTION:Kurz vor 5 tanzt!\n
SUMMARY:Kurz vor 5 - SPORT: Lateinamerikanischer Tanz
END:VEVENT
END:VCALENDAR
