BEGIN:VCALENDAR
X-WR-TIMEZONE:Europe/Berlin
X-WR-CALNAME:rbb-Kalender
VERSION:2.0
METHOD:PUBLISH
CALSCALE:GREGORIAN
PRODID:rbb-CMS DAY
BEGIN:VEVENT
CLASS:PUBLIC
URL:http://www.rbb-online.de/content/rbb/rbb/kurz_vor_fuenf/SPORT/kurz-vor-sport--.html
DTEND:20140221T170000
DTSTART:20140221T165000
UID:/content/rbb/rbb/kurz_vor_fuenf/SPORT/kurz-vor-sport--
DTSTAMP:20140406T124534
DESCRIPTION:Kurz vor 5 SPORT ist zu Fuß unterwegs.\n\n\n
SUMMARY:Kurz vor SPORT: Wandern in Spandau
END:VEVENT
END:VCALENDAR
