BEGIN:VCALENDAR
X-WR-TIMEZONE:Europe/Berlin
X-WR-CALNAME:rbb-Kalender
VERSION:2.0
METHOD:PUBLISH
CALSCALE:GREGORIAN
PRODID:rbb-CMS DAY
BEGIN:VEVENT
CLASS:PUBLIC
URL:http://www.rbb-online.de/content/rbb/rbb/kurz_vor_fuenf/garten/kurz-vor-5-garten-vom-05-03-2014.html
DTEND:20140305T170000
DTSTART:20140305T165000
UID:/content/rbb/rbb/kurz_vor_fuenf/garten/kurz-vor-5-garten-vom-05-03-2014
DTSTAMP:20140404T180059
DESCRIPTION:+++ Schneeglöckchen +++&nbsp\;&nbsp\;Frauenschuh-Orchideen +++\n&nbsp\;\n
SUMMARY:Kurz vor 5 - GARTEN vom 05.03.2014
END:VEVENT
END:VCALENDAR
