BEGIN:VCALENDAR
X-WR-TIMEZONE:Europe/Berlin
X-WR-CALNAME:rbb-Kalender
VERSION:2.0
METHOD:PUBLISH
CALSCALE:GREGORIAN
PRODID:rbb-CMS DAY
BEGIN:VEVENT
CLASS:PUBLIC
URL:http://www.rbb-online.de/content/rbb/rbb/kurz_vor_fuenf/garten/kurz-vor-5-garten-vom-07-08-2013.html
DTEND:20130807T165000
DTSTART:20130807T165000
UID:/content/rbb/rbb/kurz_vor_fuenf/garten/kurz-vor-5-garten-vom-07-08-2013
DTSTAMP:20140406T125401
DESCRIPTION:+++ Die Rosenstad Uetersen +++ Mediterrane Kübelpflanzen +++\n\n\n
SUMMARY:Kurz vor 5 - GARTEN vom 07.08.2013
END:VEVENT
END:VCALENDAR
