BEGIN:VCALENDAR
X-WR-TIMEZONE:Europe/Berlin
X-WR-CALNAME:rbb-Kalender
VERSION:2.0
METHOD:PUBLISH
CALSCALE:GREGORIAN
PRODID:rbb-CMS DAY
BEGIN:VEVENT
CLASS:PUBLIC
URL:http://www.rbb-online.de/content/rbb/rbb/kurz_vor_fuenf/gesundheit/kurz-vor-5---gesundheit-vom-05-12-2013.html
DTEND:20131205T170000
DTSTART:20131205T165000
UID:/content/rbb/rbb/kurz_vor_fuenf/gesundheit/kurz-vor-5---gesundheit-vom-05-12-2013
DTSTAMP:20140405T124851
DESCRIPTION:+++ Gemeinsam kochen und essen  +++  Stress durch digitale Medien +++\n\n\n
SUMMARY:kurz vor 5 - GESUNDHEIT vom 05.12.2013
END:VEVENT
END:VCALENDAR
