BEGIN:VCALENDAR
X-WR-TIMEZONE:Europe/Berlin
X-WR-CALNAME:rbb-Kalender
VERSION:2.0
METHOD:PUBLISH
CALSCALE:GREGORIAN
PRODID:rbb-CMS DAY
BEGIN:VEVENT
CLASS:PUBLIC
URL:http://www.rbb-online.de/content/rbb/rbb/kurz_vor_fuenf/gesundheit/kurz-vor-5---gesundheit-vom-09-01-2014.html
DTEND:20140109T170000
DTSTART:20140109T165000
UID:/content/rbb/rbb/kurz_vor_fuenf/gesundheit/kurz-vor-5---gesundheit-vom-09-01-2014
DTSTAMP:20140404T175827
DESCRIPTION:+++ Fitness-Check: Skibergsteigen +++ Autofahren mit Diabetes +++\n\n\n
SUMMARY:kurz vor 5 - GESUNDHEIT vom 09.01.2014
END:VEVENT
END:VCALENDAR
