BEGIN:VCALENDAR
X-WR-TIMEZONE:Europe/Berlin
X-WR-CALNAME:rbb-Kalender
VERSION:2.0
METHOD:PUBLISH
CALSCALE:GREGORIAN
PRODID:rbb-CMS DAY
BEGIN:VEVENT
CLASS:PUBLIC
URL:http://www.rbb-online.de/content/rbb/rbb/kurz_vor_fuenf/tierzuliebe/Kurz-vor-5---TIER-ZULIEBE-vom-19-02-2014.html
DTEND:20140219T170000
DTSTART:20140219T165000
UID:/content/rbb/rbb/kurz_vor_fuenf/tierzuliebe/Kurz-vor-5---TIER-ZULIEBE-vom-19-02-2014
DTSTAMP:20140404T180217
DESCRIPTION:Das "Tier zuliebe"-Team war im Pfötchenhotel bei Beelitz, wo die Fund- und Abgabetiere aus der Landeshauptstadt aufgenommen werden und gibt Beschäftigungstipps für Katzen:\n\n\n
SUMMARY:Kurz vor 5 – TIER ZULIEBE vom 19.02.2014
END:VEVENT
END:VCALENDAR
