BEGIN:VCALENDAR
X-WR-TIMEZONE:Europe/Berlin
X-WR-CALNAME:rbb-Kalender
VERSION:2.0
METHOD:PUBLISH
CALSCALE:GREGORIAN
PRODID:rbb-CMS DAY
BEGIN:VEVENT
CLASS:PUBLIC
URL:http://www.rbb-online.de/content/rbb/rbb/kurz_vor_fuenf/tierzuliebe/Kurz-vor-5---TIER-ZULIEBE-vom-19-03-2014.html
DTEND:20140319T170000
DTSTART:20140319T165000
UID:/content/rbb/rbb/kurz_vor_fuenf/tierzuliebe/Kurz-vor-5---TIER-ZULIEBE-vom-19-03-2014
DTSTAMP:20140404T175846
DESCRIPTION:Attila Weidemann stellt Tiere aus dem Tierheim Berlin vor:\n\n\n
SUMMARY:Kurz vor 5 – TIER ZULIEBE vom 19.03.2014
END:VEVENT
END:VCALENDAR
