BEGIN:VCALENDAR
X-WR-TIMEZONE:Europe/Berlin
X-WR-CALNAME:rbb-Kalender
VERSION:2.0
METHOD:PUBLISH
CALSCALE:GREGORIAN
PRODID:rbb-CMS DAY
BEGIN:VEVENT
CLASS:PUBLIC
URL:http://www.rbb-online.de/content/rbb/rbb/kurz_vor_fuenf/tierzuliebe/Kurz-vor-5---TIER-ZULIEBE-vom-23-10-2013.html
DTEND:20131023T170000
DTSTART:20131023T165000
UID:/content/rbb/rbb/kurz_vor_fuenf/tierzuliebe/Kurz-vor-5---TIER-ZULIEBE-vom-23-10-2013
DTSTAMP:20140405T123958
DESCRIPTION:Das Berliner Tierheim ist das größte Europas. Hier finden nicht nur Hunde und Katzen aus der Hauptstadt ein vorübergehendes Zuhause, auch viele Reptilien und Nutztiere warten auf neue Besitzer. \n\n \n
SUMMARY:Kurz vor 5 – TIER ZULIEBE vom 23.10.2013
END:VEVENT
END:VCALENDAR
