BEGIN:VCALENDAR
X-WR-TIMEZONE:Europe/Berlin
X-WR-CALNAME:rbb-Kalender
VERSION:2.0
METHOD:PUBLISH
CALSCALE:GREGORIAN
PRODID:rbb-CMS DAY
BEGIN:VEVENT
CLASS:PUBLIC
URL:http://www.rbb-online.de/content/rbb/rbb/kurz_vor_fuenf/verbraucher/kurz-vor-5---verbraucher-vom-06-08-2013.html
DTEND:20130806T165000
DTSTART:20130806T165000
UID:/content/rbb/rbb/kurz_vor_fuenf/verbraucher/kurz-vor-5---verbraucher-vom-06-08-2013
DTSTAMP:20140406T125016
DESCRIPTION:+++ Im Test: Funkkopfhörer +++ Kurzzeitparken von Cabrios mit offenem Verdeck möglich +++  Vorzeitiger Rückflug einer Pauschalreise muss nicht angetreten werden +++\n\nModeration: Gerald Meyer\n\n\n
SUMMARY:Kurz vor 5 - VERBRAUCHER vom 06.08.2013
END:VEVENT
END:VCALENDAR
