BEGIN:VCALENDAR
X-WR-TIMEZONE:Europe/Berlin
X-WR-CALNAME:rbb-Kalender
VERSION:2.0
METHOD:PUBLISH
CALSCALE:GREGORIAN
PRODID:rbb-CMS DAY
BEGIN:VEVENT
CLASS:PUBLIC
URL:http://www.rbb-online.de/content/rbb/rbb/kurz_vor_fuenf/verbraucher/kurz-vor-5---verbraucher-vom-17-12-2013.html
DTEND:20131217T170000
DTSTART:20131217T165000
UID:/content/rbb/rbb/kurz_vor_fuenf/verbraucher/kurz-vor-5---verbraucher-vom-17-12-2013
DTSTAMP:20140406T125137
DESCRIPTION:+++  Krummes Obst und Gemüse - Die kulinarischen Sonderlinge   +++ Verbrauchertipps +++ Moderation: Gerald Meyer\n\n\n
SUMMARY:Kurz vor 5 - VERBRAUCHER vom 17.12.2013
END:VEVENT
END:VCALENDAR
