BEGIN:VCALENDAR
X-WR-TIMEZONE:Europe/Berlin
X-WR-CALNAME:rbb-Kalender
VERSION:2.0
METHOD:PUBLISH
CALSCALE:GREGORIAN
PRODID:rbb-CMS DAY
BEGIN:VEVENT
CLASS:PUBLIC
URL:http://www.rbb-online.de/content/rbb/rbb/kurz_vor_fuenf/verbraucher/kurz-vor-5---verbraucher-vom-18-03-2014-neu.html
DTEND:20140318T170000
DTSTART:20140318T165000
UID:/content/rbb/rbb/kurz_vor_fuenf/verbraucher/kurz-vor-5---verbraucher-vom-18-03-2014-neu
DTSTAMP:20140404T180008
DESCRIPTION:+++ Öko-Anlagen: hohe Zinsen - hohes Risiko +++ Verbrauchertipps +++ Moderation: Gerald Meyer\n\n\n
SUMMARY:Kurz vor 5 - VERBRAUCHER vom 18.03.2014
END:VEVENT
END:VCALENDAR
