BEGIN:VCALENDAR
X-WR-TIMEZONE:Europe/Berlin
X-WR-CALNAME:rbb-Kalender
VERSION:2.0
METHOD:PUBLISH
CALSCALE:GREGORIAN
PRODID:rbb-CMS DAY
BEGIN:VEVENT
CLASS:PUBLIC
URL:http://www.rbb-online.de/content/rbb/rbb/luzyca/archiv/20130921_1330/luzyca-neues-sorbengesetz.html
DTEND:20130921T140000
DTSTART:20130921T133000
UID:/content/rbb/rbb/luzyca/archiv/20130921_1330/luzyca-neues-sorbengesetz
DTSTAMP:20140404T223959
DESCRIPTION:Die Luzyca-Reporter Anne Holzschuh und Christian Matthée fragen nach: was soll so ein Sorbengesetz überhaupt bringen? Kann es die wendische Sprache vor dem Aussterben retten? Welche Argumente haben Befürworter und Gegner...\n
SUMMARY:Das neue Sorbengesetz - was soll es bringen?
END:VEVENT
END:VCALENDAR
