BEGIN:VCALENDAR
X-WR-TIMEZONE:Europe/Berlin
X-WR-CALNAME:rbb-Kalender
VERSION:2.0
METHOD:PUBLISH
CALSCALE:GREGORIAN
PRODID:rbb-CMS DAY
BEGIN:VEVENT
CLASS:PUBLIC
URL:http://www.rbb-online.de/content/rbb/rbb/luzyca/archiv/20131116_1330/BrauneSpree.html
DTEND:20131116T140000
DTSTART:20131116T133000
UID:/content/rbb/rbb/luzyca/archiv/20131116_1330/BrauneSpree
DTSTAMP:20140404T223933
DESCRIPTION:Die Morgenröte hat im Spreewald ihre Unschuld verloren. An vielen Stellen hat es keineswegs natürliche Ursachen, wenn sich das Wasser rostrot färbt. Die Spree oberhalb von Spremberg war früher klar, heute ist sie durch die Ablagerungen aus dem Bergbau belastet. Sie leuchtet fast schon orange.\n\n\n
SUMMARY:Braune Spree
END:VEVENT
END:VCALENDAR
