BEGIN:VCALENDAR
X-WR-TIMEZONE:Europe/Berlin
X-WR-CALNAME:rbb-Kalender
VERSION:2.0
METHOD:PUBLISH
CALSCALE:GREGORIAN
PRODID:rbb-CMS DAY
BEGIN:VEVENT
CLASS:PUBLIC
URL:http://www.rbb-online.de/content/rbb/rbb/luzyca/archiv/20131116_1330/ColettNeumann.html
DTEND:20131116T140000
DTSTART:20131116T133000
UID:/content/rbb/rbb/luzyca/archiv/20131116_1330/ColettNeumann
DTSTAMP:20140404T223834
DESCRIPTION:Die 23-jährige Colett Neumann, eine Sorbin aus Cottbus, wurde während ihres Praktikums in Zielona Gora zur "Besten Auslandsstudentin" in Polen gekürt. Porträt einer jungen, kreativen und sprachgewandten Frau.\n\n\n
SUMMARY:Beste Auslandsstudentin aus Cottbus
END:VEVENT
END:VCALENDAR
