BEGIN:VCALENDAR
X-WR-TIMEZONE:Europe/Berlin
X-WR-CALNAME:rbb-Kalender
VERSION:2.0
METHOD:PUBLISH
CALSCALE:GREGORIAN
PRODID:rbb-CMS DAY
BEGIN:VEVENT
CLASS:PUBLIC
URL:http://www.rbb-online.de/content/rbb/rbb/luzyca/archiv/20131116_1330/Niedersorbisches-Gymnasium.html
DTEND:20131116T140000
DTSTART:20131116T133000
UID:/content/rbb/rbb/luzyca/archiv/20131116_1330/Niedersorbisches-Gymnasium
DTSTAMP:20140404T224203
DESCRIPTION:Der Ruf des Niedersorbischen Gymnasiums hat in den vergangenen Jahren gelitten. Zeitzeugen berichten, dass hier vor 50 Jahren mit sehr viel größerer Selbstverständlichkeit unter den Lehrern und auf dem Schulhof wendisch gesprochen wurde. Eine Situationsbeschreibung aus heutigen Tagen von Stefan Göbel.\n
SUMMARY:Das Niedersorbische Gymnasium in Cottbus
END:VEVENT
END:VCALENDAR
