BEGIN:VCALENDAR
X-WR-TIMEZONE:Europe/Berlin
X-WR-CALNAME:rbb-Kalender
VERSION:2.0
METHOD:PUBLISH
CALSCALE:GREGORIAN
PRODID:rbb-CMS DAY
BEGIN:VEVENT
CLASS:PUBLIC
URL:http://www.rbb-online.de/content/rbb/rbb/luzyca/archiv/20131116_1330/Schybalik.html
DTEND:20131116T140000
DTSTART:20131116T133000
UID:/content/rbb/rbb/luzyca/archiv/20131116_1330/Schybalik
DTSTAMP:20140404T224136
DESCRIPTION:Šybalik will nach dem Muster der Limburger Bischofsresidenz einen sorbischen "Protzbau" errichten.\n\n\n
SUMMARY:Šybalik w budce - Šybalik im Häuschen
END:VEVENT
END:VCALENDAR
