BEGIN:VCALENDAR
X-WR-TIMEZONE:Europe/Berlin
X-WR-CALNAME:rbb-Kalender
VERSION:2.0
METHOD:PUBLISH
CALSCALE:GREGORIAN
PRODID:rbb-CMS DAY
BEGIN:VEVENT
CLASS:PUBLIC
URL:http://www.rbb-online.de/content/rbb/rbb/luzyca/archiv/20140215_1330/SatireSybalik.html
DTEND:20140215T140000
DTSTART:20140215T133000
UID:/content/rbb/rbb/luzyca/archiv/20140215_1330/SatireSybalik
DTSTAMP:20140404T224039
DESCRIPTION:Šybalik, der ein guter Skisportler ist, will die olympischen Winterspiele im Jahr 2050 in der Lausitz stattfinden lassen. Nach russischem Muster spielen nicht vorhandene natürliche Voraussetzungen keine Rolle.\n\n\n
SUMMARY:Satire "Šybalik"
END:VEVENT
END:VCALENDAR
