BEGIN:VCALENDAR
X-WR-TIMEZONE:Europe/Berlin
X-WR-CALNAME:rbb-Kalender
VERSION:2.0
METHOD:PUBLISH
CALSCALE:GREGORIAN
PRODID:rbb-CMS DAY
BEGIN:VEVENT
CLASS:PUBLIC
URL:http://www.rbb-online.de/content/rbb/rbb/luzyca/archiv/20140215_1330/SorbianFacebook.html
DTEND:20140215T140000
DTSTART:20140215T133000
UID:/content/rbb/rbb/luzyca/archiv/20140215_1330/SorbianFacebook
DTSTAMP:20140404T223916
DESCRIPTION:Niemand kann sich mehr den Mails, Nachrichten und Co. entziehen. Auch sorbische Inhalte wachsen im großen Internet. Ein schönes Beispiel für den aktiven sorbischen Austausch über das Netz ist z. B. die Facebook-Gruppe "Sorbian Facebook".\n\n\n
SUMMARY:Sorbian Facebook
END:VEVENT
END:VCALENDAR
