BEGIN:VCALENDAR
X-WR-TIMEZONE:Europe/Berlin
X-WR-CALNAME:rbb-Kalender
VERSION:2.0
METHOD:PUBLISH
CALSCALE:GREGORIAN
PRODID:rbb-CMS DAY
BEGIN:VEVENT
LOCATION:Sorbisches aus der Lausitz
CLASS:PUBLIC
URL:http://www.rbb-online.de/content/rbb/rbb/luzyca/archiv/20140315_1330.html
DTEND:20140315T140000
DTSTART:20140315T133000
UID:/content/rbb/rbb/luzyca/archiv/20140315_1330
DTSTAMP:20140404T224222
DESCRIPTION:Auf wendischen Spuren in Calau +++ "Landschleicherin" in Drehnow +++ Zur Herkunft der Annemarie-Polka +++ Frühjahrsputz beim "stary lud" +++ Kulturtipps +++ Satire "Šybalik"\n\n\n
SUMMARY:Łužyca vom 15.03.2014 13:30
END:VEVENT
END:VCALENDAR
