BEGIN:VCALENDAR
X-WR-TIMEZONE:Europe/Berlin
X-WR-CALNAME:rbb-Kalender
VERSION:2.0
METHOD:PUBLISH
CALSCALE:GREGORIAN
PRODID:rbb-CMS DAY
BEGIN:VEVENT
CLASS:PUBLIC
URL:http://www.rbb-online.de/content/rbb/rbb/luzyca/archiv/20140315_1330/3.html
DTEND:20140315T140000
DTSTART:20140315T133000
UID:/content/rbb/rbb/luzyca/archiv/20140315_1330/3
DTSTAMP:20140404T223920
DESCRIPTION:Die Annemarie-Polka wird mit viel Leidenschaft getanzt, auch beim Zapust in Dissen. Jeder beherrscht die Schrittfolge.\n\n\n
SUMMARY:Herkunft der Annemarie-Polka
END:VEVENT
END:VCALENDAR
