BEGIN:VCALENDAR
X-WR-TIMEZONE:Europe/Berlin
X-WR-CALNAME:rbb-Kalender
VERSION:2.0
METHOD:PUBLISH
CALSCALE:GREGORIAN
PRODID:rbb-CMS DAY
BEGIN:VEVENT
CLASS:PUBLIC
URL:http://www.rbb-online.de/content/rbb/rbb/luzyca/archiv/20140315_1330/5.html
DTEND:20140315T140000
DTSTART:20140315T133000
UID:/content/rbb/rbb/luzyca/archiv/20140315_1330/5
DTSTAMP:20140404T224210
DESCRIPTION:Internationale Buchmesse Leipzig +++ WITAJ-Sommerferien-Camp +++ Ostereiermesse Lübbenau +++ Osterreiten in der Lausitz\n\n\n
SUMMARY:Sorbische Kulturtipps
END:VEVENT
END:VCALENDAR
