BEGIN:VCALENDAR
X-WR-TIMEZONE:Europe/Berlin
X-WR-CALNAME:rbb-Kalender
VERSION:2.0
METHOD:PUBLISH
CALSCALE:GREGORIAN
PRODID:rbb-CMS DAY
BEGIN:VEVENT
CLASS:PUBLIC
URL:http://www.rbb-online.de/content/rbb/rbb/luzyca/archiv/_u_yca-vom-17-08-2013/goebel.html
DTEND:20130817T133000
DTSTART:20130817T133000
UID:/content/rbb/rbb/luzyca/archiv/_u_yca-vom-17-08-2013/goebel
DTSTAMP:20140404T224026
DESCRIPTION:"Psed zurjami" ist der Debütfilm des jungen Cottbuser Filmemachers Stefan Göbel. Der 24-Jährige hat an der Kunstakademie in Brede studiert und widmet sich in seiner Abschlussarbeit einem typischen Thema der Lausitz.\nAutorin: Anne Holzschuh\n\n\n
SUMMARY:Stefan Göbel Film
END:VEVENT
END:VCALENDAR
