BEGIN:VCALENDAR
X-WR-TIMEZONE:Europe/Berlin
X-WR-CALNAME:rbb-Kalender
VERSION:2.0
METHOD:PUBLISH
CALSCALE:GREGORIAN
PRODID:rbb-CMS DAY
BEGIN:VEVENT
CLASS:PUBLIC
URL:http://www.rbb-online.de/content/rbb/rbb/luzyca/archiv/_u_yca-vom-17-08-2013/maler-philipp-franck.html
DTEND:20130817T133000
DTSTART:20130817T133000
UID:/content/rbb/rbb/luzyca/archiv/_u_yca-vom-17-08-2013/maler-philipp-franck
DTSTAMP:20140404T224239
DESCRIPTION:Philipp Franck (1880 - 1944) gilt als einer der wichtigen deutschen Impressionisten, einer der Begründer der "Berliner Secession". Sein umfangreiches Oevre ist über viele bedeutende Sammlungen verteilt.\n \n
SUMMARY:Maler Philipp Franck zurück
END:VEVENT
END:VCALENDAR
