BEGIN:VCALENDAR
X-WR-TIMEZONE:Europe/Berlin
X-WR-CALNAME:rbb-Kalender
VERSION:2.0
METHOD:PUBLISH
CALSCALE:GREGORIAN
PRODID:rbb-CMS DAY
BEGIN:VEVENT
CLASS:PUBLIC
URL:http://www.rbb-online.de/content/rbb/rbb/luzyca/archiv/_u_yca-vom-20-07-2013/johannesreiten.html
DTEND:20130720T133000
DTSTART:20130720T133000
UID:/content/rbb/rbb/luzyca/archiv/_u_yca-vom-20-07-2013/johannesreiten
DTSTAMP:20140404T223844
DESCRIPTION:Das Johannisreiten ist Bestandteil des heute nur noch selten begangenen Johannisfestes. Bei vielen Völkern bestand der Glaube, dass die Johannisnacht große Wunderwirkung hat und alle Wurzeln und Kräuter heilige Kräfte bekommen.
SUMMARY:Łužyca- Jagd nach dem Glück - Das Johannisreiten in Casel
END:VEVENT
END:VCALENDAR
