BEGIN:VCALENDAR
X-WR-TIMEZONE:Europe/Berlin
X-WR-CALNAME:rbb-Kalender
VERSION:2.0
METHOD:PUBLISH
CALSCALE:GREGORIAN
PRODID:rbb-CMS DAY
BEGIN:VEVENT
CLASS:PUBLIC
URL:http://www.rbb-online.de/content/rbb/rbb/luzyca/archiv/_u_yca_vom_15_06_2013.html
DTEND:20130615T133000
DTSTART:20130615T133000
UID:/content/rbb/rbb/luzyca/archiv/_u_yca_vom_15_06_2013
DTSTAMP:20140404T223827
DESCRIPTION:+++ 60 Jahre sorbischer Rundfunk +++ Premiere WITAJ-Schultheaterprojekt +++ Johannisreiten +++ Abgebaggerte Dörfer +++ Rostiges Wasser +++ Landschleicher in Drachhausen +++ Tipps +++ Šybalik +++\n
SUMMARY:Łužyca vom 15.06.2013
END:VEVENT
END:VCALENDAR
