BEGIN:VCALENDAR
X-WR-TIMEZONE:Europe/Berlin
X-WR-CALNAME:rbb-Kalender
VERSION:2.0
METHOD:PUBLISH
CALSCALE:GREGORIAN
PRODID:rbb-CMS DAY
BEGIN:VEVENT
CLASS:PUBLIC
URL:http://www.rbb-online.de/content/rbb/rbb/luzyca/archiv/_u_yca_vom_15_06_2013/_ybalik_.html
DTEND:20130615T133000
DTSTART:20130615T133000
UID:/content/rbb/rbb/luzyca/archiv/_u_yca_vom_15_06_2013/_ybalik_
DTSTAMP:20140404T223614
DESCRIPTION:Šybalik hat sich eine "sorbisch/wendische" Methode, mit der man die zunehmende Verockerung der Spree eindämmen könnte, ausgedacht.\n
SUMMARY:Šybalik w budce - Šybalik im Häuschen
END:VEVENT
END:VCALENDAR
