BEGIN:VCALENDAR
X-WR-TIMEZONE:Europe/Berlin
X-WR-CALNAME:rbb-Kalender
VERSION:2.0
METHOD:PUBLISH
CALSCALE:GREGORIAN
PRODID:rbb-CMS DAY
BEGIN:VEVENT
CLASS:PUBLIC
URL:http://www.rbb-online.de/content/rbb/rbb/luzyca/archiv/_u_yca_vom_20_04_2013/60_jahre_sorbischer.html
DTEND:20130420T132500
DTSTART:20130420T132500
UID:/content/rbb/rbb/luzyca/archiv/_u_yca_vom_20_04_2013/60_jahre_sorbischer
DTSTAMP:20140406T181742
DESCRIPTION:In Görlitz wurde vor 60 Jahren die erste sorbische Radiosendung produziert. Das war am 22. März 1953. Gesendet wurde für die Ober- und die Niederlausitz gemeinsam. Vier Jahre später zog die Sorbische Redaktion dann nach Cottbus. Heute ist der rbb für das niedersorbische/wendische Rundfunkprogramm verantwortlich. Wir schauen hinter die Kulissen.
SUMMARY:60 Jahre Sorbischer Rundfunk
END:VEVENT
END:VCALENDAR
